BEGIN:VCALENDAR
VERSION:2.0
PRODID:-//ChamberMaster//Event Calendar 2.0//EN
METHOD:PUBLISH
X-PUBLISHED-TTL:P3D
REFRESH-INTERVAL:P3D
CALSCALE:GREGORIAN
BEGIN:VEVENT
DTSTART:20250618T163000Z
DTEND:20250618T180000Z
X-MICROSOFT-CDO-ALLDAYEVENT:FALSE
SUMMARY:Denton Manufacturer Forum - June 2025
DESCRIPTION:Denton Economic Development Partnership Manufacturer Forum\n\n\n\nWednesday\, June 18th\, 2025 \n\n11:30 am to 1:00 pm\n\nDATCU Stadium - Hub Club on the campus of UNT\n\n \nTOPIC: Workforce Update from Denton Education Partners \n\n\n\nYou are invited to hear from the following education leaders in Workforce Development:\n\n  \n\nCareer Center Directors:\n\n  TWU  -- Aimee Laun\n\n  UNT  -- Eileen Buecher\n\n\n\nContinuing Education Director:\n\n  NCTC  -- Dr. Brian Carnes\n\n\n\nDenton ISD CTE Strategic Partnership Liaison:\n\n   DISD  -- Micah Tannery\n\n\n\nLunch will be provided.  \n\n\n\nThanks to our host The University of North Texas Athletics Department.\n\n\n\nIf you have questions\, please contact Jamie Adams at Jamie@DentonEDP.com or 940-465-6775.
X-ALT-DESC;FMTTYPE=text/html:<p font-size:="" style="color: rgb(51\, 51\, 51)\; font-family: sans-serif\, Arial\, Verdana\, " trebuchet=""><span style="font-family:arial\;"><span style="font-size: 26px\;"><strong>Denton Economic Development Partnership Manufacturer Forum<br />\n<br />\nWednesday\, June 18th\, 2025&nbsp\;<br />\n11:30 am to 1:00&nbsp\;pm<br />\nDATCU Stadium - Hub Club on the campus of UNT</strong></span></span><br />\n&nbsp\;</p>\n<span style="font-family:arial\;"><span font-size:="" style="color: rgb(51\, 51\, 51)\; font-family: sans-serif\, Arial\, Verdana\, " trebuchet=""><strong>TOPIC</strong>: Workforce Update from Denton Education Partners&nbsp\;<br />\n<br />\nYou are invited to hear from the following education leaders in&nbsp\;Workforce Development:<br />\n<span style="font-size:14px\;">&nbsp\;&nbsp\;</span></span><br />\n<span style="font-size:14px\;"><strong><span style="color:black\;">Career Center Directors</span></strong><span style="color:black\;">:</span><br />\n<span style="color:black\;">&nbsp\; TWU&nbsp\; -- Aimee Laun</span><br />\n<span style="color:black\;">&nbsp\; UNT&nbsp\; -- Eileen Buecher</span><br />\n<br />\n<strong><span style="color:black\;">Continuing Education Director:</span></strong><br />\n<span style="color:black\;">&nbsp\; NCTC&nbsp\; -- Dr. Brian Carnes</span><br />\n<br />\n<strong><span style="color:black\;">Denton ISD&nbsp\;CTE Strategic Partnership Liaison</span></strong><span style="color:black\;">:</span><br />\n<span style="color:black\;">&nbsp\; &nbsp\;DISD&nbsp\; -- Micah Tannery</span></span><br />\n<br />\n<span font-size:="" style="color: rgb(51\, 51\, 51)\; font-family: sans-serif\, Arial\, Verdana\, " trebuchet="">Lunch will be provided.&nbsp\;&nbsp\;<br />\n<br />\nThanks to our host The University of North Texas Athletics Department.<br />\n<br />\nIf you have questions\, please contact Jamie Adams at Jamie@DentonEDP.com or 940-465-6775.</span></span><br />\n<br />\n<br />\n&nbsp\;
LOCATION:DATCU Stadium Hub Club 1251 South Bonnie Brae Denton\, TX 76201
UID:e.703.31
SEQUENCE:3
DTSTAMP:20260423T083044Z
URL:https://investors.dentonedp.com/events/details/denton-manufacturer-forum-june-2025-31
END:VEVENT

END:VCALENDAR
